BEGIN:VCALENDAR
VERSION:2.0
PRODID:-//jEvents 2.0 for Joomla//EN
CALSCALE:GREGORIAN
METHOD:PUBLISH
BEGIN:VTIMEZONE
TZID:Europe/Berlin
BEGIN:STANDARD
DTSTART:20201127T100000
RDATE:20210328T030000
TZOFFSETFROM:+0200
TZOFFSETTO:+0100
TZNAME:Europe/Berlin CET
END:STANDARD
BEGIN:STANDARD
DTSTART:20211031T020000
RDATE:20220327T030000
TZOFFSETFROM:+0200
TZOFFSETTO:+0100
TZNAME:Europe/Berlin CET
END:STANDARD
BEGIN:STANDARD
DTSTART:20221030T020000
RDATE:20230326T030000
TZOFFSETFROM:+0200
TZOFFSETTO:+0100
TZNAME:Europe/Berlin CET
END:STANDARD
BEGIN:STANDARD
DTSTART:20231029T020000
RDATE:20240331T030000
TZOFFSETFROM:+0200
TZOFFSETTO:+0100
TZNAME:Europe/Berlin CET
END:STANDARD
BEGIN:STANDARD
DTSTART:20241027T020000
RDATE:20250330T030000
TZOFFSETFROM:+0200
TZOFFSETTO:+0100
TZNAME:Europe/Berlin CET
END:STANDARD
BEGIN:STANDARD
DTSTART:20251026T020000
RDATE:20260329T030000
TZOFFSETFROM:+0200
TZOFFSETTO:+0100
TZNAME:Europe/Berlin CET
END:STANDARD
BEGIN:DAYLIGHT
DTSTART:20210328T030000
RDATE:20211031T020000
TZOFFSETFROM:+0100
TZOFFSETTO:+0200
TZNAME:Europe/Berlin CEST
END:DAYLIGHT
BEGIN:DAYLIGHT
DTSTART:20220327T030000
RDATE:20221030T020000
TZOFFSETFROM:+0100
TZOFFSETTO:+0200
TZNAME:Europe/Berlin CEST
END:DAYLIGHT
BEGIN:DAYLIGHT
DTSTART:20230326T030000
RDATE:20231029T020000
TZOFFSETFROM:+0100
TZOFFSETTO:+0200
TZNAME:Europe/Berlin CEST
END:DAYLIGHT
BEGIN:DAYLIGHT
DTSTART:20240331T030000
RDATE:20241027T020000
TZOFFSETFROM:+0100
TZOFFSETTO:+0200
TZNAME:Europe/Berlin CEST
END:DAYLIGHT
BEGIN:DAYLIGHT
DTSTART:20250330T030000
RDATE:20251026T020000
TZOFFSETFROM:+0100
TZOFFSETTO:+0200
TZNAME:Europe/Berlin CEST
END:DAYLIGHT
END:VTIMEZONE
BEGIN:VEVENT
UID:5dc1fac11e7eeb043e0b79c5bf815414
CATEGORIES:DEFAULT
CREATED:20210916T210219
SUMMARY:Donauwörther „Schlößlelauf“
LOCATION:Donauwörth
URL;VALUE=URI:https://lg-donau-ries.de/index.php/component/jevents/icalrepeat.detail/2021
 /11/28/108/-/donauwoerther-schloesslelauf?Itemid=1&amp;tmpl=component
DESCRIPTION:Sonntag\n28.11.\nDonauwörther „Schlößlelauf“\n  Start: Stadtteil Bertenbrei
 t  (86687 Kaisheim, Bertenbreit)\nvon Donauwörth ca. 2 km Richtung Kaisheim
 \nInfos:\n Jochen Weber, Deutschmeisterring 61\n86609 Donauwörth\nTelefon 0
 906 28 616\n  Streckenprofil (http://www.1-2-sports.com/tr_21279/)\n#corona
 -jedermann#\nZur Übersicht der Serie (index.php?option=com_content&amp;view
 =article&amp;id=418&amp;catid=91)\nDie Siegerehrung findet jeweils um 11.15
  Uhr statt. Für den Schlusslauf und die Gesamtserie mit gemütlichem Ausklan
 g –inklusive Bewirtung – ist sie zwischen 11.30 Uhr und 13.00 Uhr.\nDie Ver
 anstalter übernehmen keine Haftung.\nDie LG Donau – Ries freut sich auf Ihr
 en Besuch\n This event was imported from: https://lg-donau-ries.de/index.ph
 p/component/jevents/icalrepeat.detail/2021/11/28/108/-/donauwoerther-schloe
 sslelauf?Itemid=1&amp;tmpl=component
X-ALT-DESC;FMTTYPE=text/html:<table border="1" cellspacing="cellspacing" cellpadding="cellpadding"><tbod
 y><tr><td valign="top" width="114"><p>Sonntag</p></td><td valign="top" widt
 h="97"><p>28.11.</p></td><td valign="top" width="324"><p>Donauwörther „Schl
 ößlelauf“</p></td></tr><tr><td valign="top" width="114"> </td><td valign="t
 op" width="97"> </td><td valign="top" width="324"><p>Start: Stadtteil Berte
 nbreit  (86687 Kaisheim, Bertenbreit)</p><p>von Donauwörth ca. 2 km Richtun
 g Kaisheim</p></td></tr><tr><td valign="top" width="114"><p>Infos:</p></td>
 <td valign="top" width="97"> </td><td valign="top" width="324"><p>Jochen We
 ber, Deutschmeisterring 61</p><p>86609 Donauwörth</p><p>Telefon 0906 28 616
 </p></td></tr><tr><td valign="top" width="114"> </td><td valign="top" width
 ="97"> </td><td valign="top" width="324"><p><a href="http://www.1-2-sports.
 com/tr_21279/" target="_blank" rel="noopener noreferrer">Streckenprofil</a>
 </p></td></tr></tbody></table><p>#corona-jedermann#</p><p><a href="https://
 lg-donau-ries.de/index.php?option=com_content&amp;view=article&amp;id=418&a
 mp;catid=91" target="_blank" rel="alternate noopener noreferrer">Zur Übersi
 cht der Serie</a></p><p>Die Siegerehrung findet jeweils um 11.15 Uhr statt.
  Für den Schlusslauf und die Gesamtserie mit gemütlichem Ausklang –inklusiv
 e Bewirtung – ist sie zwischen 11.30 Uhr und 13.00 Uhr.</p><p>Die Veranstal
 ter übernehmen keine Haftung.</p><p align="center">Die LG Donau – Ries freu
 t sich auf Ihren Besuch</p> <a href="https://lg-donau-ries.de/index.php/com
 ponent/jevents/icalrepeat.detail/2021/11/28/108/-/donauwoerther-schloesslel
 auf?Itemid=1&amp;tmpl=component">This event was imported from: https://lg-d
 onau-ries.de/index.php/component/jevents/icalrepeat.detail/2021/11/28/108/-
 /donauwoerther-schloesslelauf?Itemid=1&amp;tmpl=component</a>DTSTAMP:20260424T112838
DTSTART;TZID=Europe/Berlin:20211128T100000
SEQUENCE:0
TRANSP:OPAQUE
END:VEVENT
END:VCALENDAR