BEGIN:VCALENDAR
VERSION:2.0
PRODID:-//jEvents 2.0 for Joomla//EN
CALSCALE:GREGORIAN
METHOD:PUBLISH
BEGIN:VTIMEZONE
TZID:Europe/Berlin
BEGIN:STANDARD
DTSTART:20211031T020000
RDATE:20220327T030000
TZOFFSETFROM:+0200
TZOFFSETTO:+0100
TZNAME:Europe/Berlin CET
END:STANDARD
BEGIN:STANDARD
DTSTART:20221030T020000
RDATE:20230326T030000
TZOFFSETFROM:+0200
TZOFFSETTO:+0100
TZNAME:Europe/Berlin CET
END:STANDARD
BEGIN:STANDARD
DTSTART:20231029T020000
RDATE:20240331T030000
TZOFFSETFROM:+0200
TZOFFSETTO:+0100
TZNAME:Europe/Berlin CET
END:STANDARD
BEGIN:STANDARD
DTSTART:20241027T020000
RDATE:20250330T030000
TZOFFSETFROM:+0200
TZOFFSETTO:+0100
TZNAME:Europe/Berlin CET
END:STANDARD
BEGIN:STANDARD
DTSTART:20251026T020000
RDATE:20260329T030000
TZOFFSETFROM:+0200
TZOFFSETTO:+0100
TZNAME:Europe/Berlin CET
END:STANDARD
BEGIN:DAYLIGHT
DTSTART:20210701T060000
RDATE:20211031T020000
TZOFFSETFROM:+0100
TZOFFSETTO:+0200
TZNAME:Europe/Berlin CEST
END:DAYLIGHT
BEGIN:DAYLIGHT
DTSTART:20220327T030000
RDATE:20221030T020000
TZOFFSETFROM:+0100
TZOFFSETTO:+0200
TZNAME:Europe/Berlin CEST
END:DAYLIGHT
BEGIN:DAYLIGHT
DTSTART:20230326T030000
RDATE:20231029T020000
TZOFFSETFROM:+0100
TZOFFSETTO:+0200
TZNAME:Europe/Berlin CEST
END:DAYLIGHT
BEGIN:DAYLIGHT
DTSTART:20240331T030000
RDATE:20241027T020000
TZOFFSETFROM:+0100
TZOFFSETTO:+0200
TZNAME:Europe/Berlin CEST
END:DAYLIGHT
BEGIN:DAYLIGHT
DTSTART:20250330T030000
RDATE:20251026T020000
TZOFFSETFROM:+0100
TZOFFSETTO:+0200
TZNAME:Europe/Berlin CEST
END:DAYLIGHT
END:VTIMEZONE
BEGIN:VEVENT
UID:b25c5e7a8ea80dbfb4a35871d7497e44
CATEGORIES:DEFAULT
CREATED:20220220T132052
SUMMARY:Virtueller St.-Anna-Jedermannslauf, Amerdingen
LOCATION:Amerdingen
URL;VALUE=URI:https://lg-donau-ries.de/index.php/component/jevents/icalrepeat.detail/2022
 /07/02/126/-/virtueller-st-anna-jedermannslauf-amerdingen?Itemid=1&amp;tmpl
 =component
DESCRIPTION:Ausrichter:\nSV Amerdingen / LG Donau-Ries\n  Startzeiten:\nTäglich von 06.
 00 – 20.00 Uhr\n30.07.2022 bis 17.00 Uhr – jeweils mit Nutzung der Spoferan
  App\n  Strecken\nüberwiegend Asphalt – Schotter\n \n1.\nHauptlauf-Erwachse
 ne und Jugend\nZu den „Drei Steine/Rennweg“\nM/W – JU18, U20, M/W, AK30/35,
  AK40/45, AK50/55, AK60/65, AK70 u. älter\nca. 10,5 km\n \n2.Jogging-/Walki
 ng-Lauf\nOhne Jahrgangsbeschränkung – getrennte Wertung Jogging M/W und Wal
 king M/Wca. 5,8 km \n3.\nJugendlauf\nM/W- KU10, KU12, JU14, JU16\nca. 3 km\
 n \n \n \n \nStart und Ziel:\nsüdlich Sportplatz Amerdingen, Eglinger Str. 
 15, \n86735 Amerdingen\n \n \n \n \nStartgebühren:\n1. Hauptlauf Erwachsene
  und Jugend\n6,-- Euro\n \n2. Jogging-/Walking-Lauf\n5,-  Euro\n \n3. Jugen
 dlauf\n3,-  Euro\n \nDer Erlös geht an die St.-Anna-Stiftung zum Erhalt der
  Kapelle\n \n \n \n \nSiegerehrung\nim Festzelt am Sportheim am 30.07.2022,
  20.00 Uhr\n  \nAnmeldungen:\n01.04.2022 bis 30.07.2022  unter www.sv-amerd
 ingen.de (http://www.sv-amerdingen.de) \noder www.spoferan.com (http://www.
 spoferan.com)\n \n \n \n \nPreise erhalten:\nPlatz 1  der jeweiligen AK M/W
  in Haupt- u. Jugend-Lauf\nsowie getrennt gewertete Jogging- u. Walking-Lau
 f\n-größte Teilnehmergruppe\n \n \n \n \nErgebnisliste:\nim Internet unter 
 www.sv-amerdingen.de (http://www.sv-amerdingen.de)\n \n \n \n \nSonstiges:\
 nUmkleide- und Duschmöglichkeit in der Turnhalle u. Sportheim\n \n \n \n \n
 Weitere Infos:\nwww.sv-amerdingen.de (http://www.sv-amerdingen.de) - 090894
 92 – Diese E-Mail-Adresse ist vor Spambots geschützt! Zur Anzeige muss Java
 Script eingeschaltet sein.\nEngelbert Wiedemann 09089727\n \n \n \n \n This
  event was imported from: https://lg-donau-ries.de/index.php/component/jeve
 nts/icalrepeat.detail/2022/07/02/126/-/virtueller-st-anna-jedermannslauf-am
 erdingen?Itemid=1&amp;tmpl=component
X-ALT-DESC;FMTTYPE=text/html:<table style="width: 655px;"><tbody><tr><td style="width: 139px;"><p><stron
 g>Ausrichter:</strong></p></td><td style="width: 488px;" colspan="3"><p><st
 rong>SV Amerdingen / LG Donau-Ries</strong></p></td></tr><tr><td style="wid
 th: 139px;"> </td><td style="width: 488px;" colspan="3"> </td></tr><tr><td 
 style="width: 139px;"><p><strong>Startzeiten:</strong></p></td><td style="w
 idth: 488px;" colspan="3"><p><strong>Täglich von 06.00 – 20.00 Uhr<br />30.
 07.2022 bis 17.00 Uhr – jeweils mit Nutzung der Spoferan App</strong></p></
 td></tr><tr><td style="width: 139px;"> </td><td style="width: 488px;" colsp
 an="3"> </td></tr><tr><td style="width: 139px;"><p><strong>Strecken</strong
 ></p></td><td style="width: 488px;" colspan="3"><p><strong>überwiegend Asph
 alt – Schotter</strong></p></td></tr><tr><td style="width: 139px;"><p> </p>
 </td><td style="width: 27px;"><p><strong>1.</strong></p></td><td style="wid
 th: 366px;"><p><strong>Hauptlauf-Erwachsene und Jugend<br /></strong><stron
 g>Zu den „Drei Steine/Rennweg“<br /></strong><strong>M/W – JU18, U20, M/W, 
 AK30/35, </strong><strong>AK40/45, AK50/55, AK60/65, AK70 u. älter</strong>
 </p></td><td style="width: 95px;"><p><strong>ca. 10,5 km</strong></p></td><
 /tr><tr><td style="width: 139px;"><p> </p></td><td style="width: 27px;"><st
 rong>2.</strong></td><td style="width: 366px;"><strong>Jogging-/Walking-Lau
 f<br /></strong><strong>Ohne Jahrgangsbeschränkung – getrennte Wertung Jogg
 ing M/W und Walking M/W</strong></td><td style="width: 95px;"><strong>ca. 5
 ,8 km</strong></td></tr><tr><td style="width: 139px;"><p> </p></td><td styl
 e="width: 27px;"><p><strong>3.</strong></p></td><td style="width: 366px;"><
 p><strong>Jugendlauf<br /></strong><strong>M/W- KU10, KU12, JU14, JU16</str
 ong></p></td><td style="width: 95px;"><p><strong>ca. 3 km</strong></p></td>
 </tr><tr><td style="width: 139px;"><p> </p></td><td style="width: 27px;"><p
 > </p></td><td style="width: 366px;"><p> </p></td><td style="width: 95px;">
 <p> </p></td></tr><tr><td style="width: 139px;"><p><strong>Start und Ziel:<
 /strong></p></td><td style="width: 488px;" colspan="3"><p><strong>südlich S
 portplatz Amerdingen, Eglinger Str. 15, <br />86735 Amerdingen</strong></p>
 </td></tr><tr><td style="width: 139px;"><p> </p></td><td style="width: 27px
 ;"><p> </p></td><td style="width: 366px;"><p> </p></td><td style="width: 95
 px;"><p> </p></td></tr><tr><td style="width: 139px;"><p><strong>Startgebühr
 en:</strong></p></td><td style="width: 393px;" colspan="2"><p><strong>1. Ha
 uptlauf Erwachsene und Jugend</strong></p></td><td style="width: 95px;"><p>
 <strong>6,-- Euro</strong></p></td></tr><tr><td style="width: 139px;"><p> <
 /p></td><td style="width: 393px;" colspan="2"><p><strong>2. Jogging-/Walkin
 g-Lauf</strong></p></td><td style="width: 95px;"><p><strong>5,-  Euro</stro
 ng></p></td></tr><tr><td style="width: 139px;"><p> </p></td><td style="widt
 h: 393px;" colspan="2"><p><strong>3. Jugendlauf</strong></p></td><td style=
 "width: 95px;"><p><strong>3,-  Euro</strong></p></td></tr><tr><td style="wi
 dth: 139px;"><p> </p></td><td style="width: 488px;" colspan="3"><p><strong>
 Der Erlös geht an die St.-Anna-Stiftung zum Erhalt der Kapelle</strong></p>
 </td></tr><tr><td style="width: 139px;"><p> </p></td><td style="width: 27px
 ;"><p> </p></td><td style="width: 366px;"><p> </p></td><td style="width: 95
 px;"><p> </p></td></tr><tr><td style="width: 139px;"><p><strong>Siegerehrun
 g</strong></p></td><td style="width: 488px;" colspan="3"><p><strong>im Fest
 zelt am Sportheim am 30.07.2022, 20.00 Uhr</strong></p></td></tr><tr><td st
 yle="width: 139px;"> </td><td style="width: 488px;" colspan="3"><p> </p></t
 d></tr><tr><td style="width: 139px;"><p><strong>Anmeldungen:</strong></p></
 td><td style="width: 488px;" colspan="3"><p><strong>01.04.2022 bis 30.07.20
 22  unter <a href="http://www.sv-amerdingen.de" target="_blank" rel="noopen
 er noreferrer">www.sv-amerdingen.de</a> <br />oder <a href="http://www.spof
 eran.com" target="_blank" rel="noopener noreferrer">www.spoferan.com</a></s
 trong></p></td></tr><tr><td style="width: 139px;"><p> </p></td><td style="w
 idth: 27px;"><p> </p></td><td style="width: 366px;"><p> </p></td><td style=
 "width: 95px;"><p> </p></td></tr><tr><td style="width: 139px;"><p><strong>P
 reise erhalten:</strong></p></td><td style="width: 488px;" colspan="3"><p><
 strong>Platz 1  der jeweiligen AK M/W in Haupt- u. Jugend-Lauf<br />sowie g
 etrennt gewertete Jogging- u. Walking-Lauf<br />-größte Teilnehmergruppe</s
 trong></p></td></tr><tr><td style="width: 139px;"><p> </p></td><td style="w
 idth: 27px;"><p> </p></td><td style="width: 366px;"><p> </p></td><td style=
 "width: 95px;"><p> </p></td></tr><tr><td style="width: 139px;"><p><strong>E
 rgebnisliste:</strong></p></td><td style="width: 488px;" colspan="3"><p><st
 rong>im Internet unter <a href="http://www.sv-amerdingen.de" target="_blank
 " rel="noopener noreferrer">www.sv-amerdingen.de</a></strong></p></td></tr>
 <tr><td style="width: 139px;"><p> </p></td><td style="width: 27px;"><p> </p
 ></td><td style="width: 366px;"><p> </p></td><td style="width: 95px;"><p> <
 /p></td></tr><tr><td style="width: 139px;"><p><strong>Sonstiges:</strong></
 p></td><td style="width: 488px;" colspan="3"><p><strong>Umkleide- und Dusch
 möglichkeit in der Turnhalle u. Sportheim</strong></p></td></tr><tr><td sty
 le="width: 139px;"><p> </p></td><td style="width: 27px;"><p> </p></td><td s
 tyle="width: 366px;"><p> </p></td><td style="width: 95px;"><p> </p></td></t
 r><tr><td style="width: 139px;"><p><strong>Weitere Infos:</strong></p></td>
 <td style="width: 488px;" colspan="3"><p><strong><a href="http://www.sv-ame
 rdingen.de" target="_blank" rel="noopener noreferrer">www.sv-amerdingen.de<
 /a> - 09089492 – <joomla-hidden-mail  is-link="1" is-email="1" first="aW5mb
 w==" last="c3YtYW1lcmRpbmdlbi5kZQ==" text="aW5mb0Bzdi1hbWVyZGluZ2VuLmRl" ba
 se="" >Diese E-Mail-Adresse ist vor Spambots geschützt! Zur Anzeige muss Ja
 vaScript eingeschaltet sein.</joomla-hidden-mail></strong></p><p><strong>En
 gelbert Wiedemann 09089727</strong></p></td></tr><tr><td style="width: 139p
 x;"><p> </p></td><td style="width: 27px;"><p> </p></td><td style="width: 36
 6px;"><p> </p></td><td style="width: 95px;"><p> </p></td></tr></tbody></tab
 le> <a href="https://lg-donau-ries.de/index.php/component/jevents/icalrepea
 t.detail/2022/07/02/126/-/virtueller-st-anna-jedermannslauf-amerdingen?Item
 id=1&amp;tmpl=component">This event was imported from: https://lg-donau-rie
 s.de/index.php/component/jevents/icalrepeat.detail/2022/07/02/126/-/virtuel
 ler-st-anna-jedermannslauf-amerdingen?Itemid=1&amp;tmpl=component</a>DTSTAMP:20260420T000832
DTSTART;TZID=Europe/Berlin:20220702T060000
DTEND;TZID=Europe/Berlin:20220730T200000
SEQUENCE:0
TRANSP:OPAQUE
END:VEVENT
END:VCALENDAR