BEGIN:VCALENDAR
VERSION:2.0
PRODID:-//jEvents 2.0 for Joomla//EN
CALSCALE:GREGORIAN
METHOD:PUBLISH
BEGIN:VTIMEZONE
TZID:Europe/Berlin
BEGIN:STANDARD
DTSTART:20221030T020000
RDATE:20230326T030000
TZOFFSETFROM:+0200
TZOFFSETTO:+0100
TZNAME:Europe/Berlin CET
END:STANDARD
BEGIN:STANDARD
DTSTART:20231029T020000
RDATE:20240331T030000
TZOFFSETFROM:+0200
TZOFFSETTO:+0100
TZNAME:Europe/Berlin CET
END:STANDARD
BEGIN:STANDARD
DTSTART:20241027T020000
RDATE:20250330T030000
TZOFFSETFROM:+0200
TZOFFSETTO:+0100
TZNAME:Europe/Berlin CET
END:STANDARD
BEGIN:STANDARD
DTSTART:20251026T020000
RDATE:20260329T030000
TZOFFSETFROM:+0200
TZOFFSETTO:+0100
TZNAME:Europe/Berlin CET
END:STANDARD
BEGIN:DAYLIGHT
DTSTART:20220616T130000
RDATE:20221030T020000
TZOFFSETFROM:+0100
TZOFFSETTO:+0200
TZNAME:Europe/Berlin CEST
END:DAYLIGHT
BEGIN:DAYLIGHT
DTSTART:20230326T030000
RDATE:20231029T020000
TZOFFSETFROM:+0100
TZOFFSETTO:+0200
TZNAME:Europe/Berlin CEST
END:DAYLIGHT
BEGIN:DAYLIGHT
DTSTART:20240331T030000
RDATE:20241027T020000
TZOFFSETFROM:+0100
TZOFFSETTO:+0200
TZNAME:Europe/Berlin CEST
END:DAYLIGHT
BEGIN:DAYLIGHT
DTSTART:20250330T030000
RDATE:20251026T020000
TZOFFSETFROM:+0100
TZOFFSETTO:+0200
TZNAME:Europe/Berlin CEST
END:DAYLIGHT
END:VTIMEZONE
BEGIN:VEVENT
UID:bb3c3567c90803a5ec1c99133cee1853
CATEGORIES:DEFAULT
CREATED:20230110T215422
SUMMARY:4. Wemdinger Stadtlauf
URL;VALUE=URI:https://lg-donau-ries.de/index.php/component/jevents/icalrepeat.detail/2023
 /06/17/165/-/4-wemdinger-stadtlauf?Itemid=1&amp;tmpl=component
DESCRIPTION:Ausrichter:\nTSV Wemding-LG Märchenwald / LG Donau-Ries\n \n \nStartzeiten:
 \n13.00 Uhr \nKinderlauf bis Jahrgang 2017\nOhne Zeitnahme\nca. 0,4 km\n \n
 13.30  Uhr\nSchülerlauf 1 (bis JG 2014)\nSchülerlauf 2 (bis JG 2011)\nca. 0
 ,8 km\n \n14:30 Uhr\nKurzstrecke\nmit Inklusion\nWertung nur Zieleinlauf\nc
 a. 2,4 km\n \n15:30 Uhr\nHauptlauf\nmit Inklusionslauf\nca. 6 km\n \n15.35 
 Uhr\nWalker\n(mit Inklusionslauf)\nca. 6 km\n \n \n \n \nStart und Ziel:\nS
 tadtmitte am Marktplatz, 86650 Wemding\n \n \n \n \nStartgebühren:\nKinderl
 auf und Schülerlauf\n 5,-- Euro\n \nKurzstrecke\n 8,-- Euro\n \nErwachsene 
 und Walker\n 10,-- Euro\n         Voranmeldungen:\nbis 11.06.2023  unter   
   www.wemdinger-stadtlauf.de (http://www.wemdinger-stadtlauf.de)\n\n \n \n 
 \n \nNachmeldungen:\nsind bis 30 Minuten vor Beginn der Veranstaltung mögli
 ch.\nNachmeldegebühr: 2,-- Euro\n \n \n \n \nPreise erhalten:\nPlatz 1 – 3 
 Einlauf Frauen und Männer.\n \nPlatz 1 – 3 der Hauptklasse, AK 30, AK 40, A
 K 50 usw.\n \nPlatz 1 – 3 der teilnehmerstärksten Mannschaften\n \nalle Tei
 lnehmer erhalten eine Medaille\n \n \n \n \nErgebnisliste:\nim Internet unt
 er www.wemdinger-stadtlauf.de (http://www.wemdinger-stadtlauf.de)\n\n \n \n
  \n \nSonstiges:\nUmkleide- und Duschmöglichkeit in der Turnhalle (Schule)\
 n \n \n \n \nWeitere Infos:\nNorbert Krompaß, Lommersheimer Weg 16\n86650 W
 emding, Telefon 09092 62 74\nund e-mail Diese E-Mail-Adresse ist vor Spambo
 ts geschützt! Zur Anzeige muss JavaScript eingeschaltet sein.\n\n \n This e
 vent was imported from: https://lg-donau-ries.de/index.php/component/jevent
 s/icalrepeat.detail/2023/06/17/165/-/4-wemdinger-stadtlauf?Itemid=1&amp;tmp
 l=component
X-ALT-DESC;FMTTYPE=text/html:<table style="width: 590px;"><tbody><tr><td style="width: 140px;"><p><stron
 g>Ausrichter:</strong></p></td><td style="width: 428px;" colspan="3"><p><st
 rong>TSV Wemding-LG Märchenwald / LG Donau-Ries</strong></p></td></tr><tr><
 td style="width: 140px;"><p><strong> </strong></p></td><td style="width: 42
 8px;" colspan="3"><p><strong> </strong></p></td></tr><tr><td style="width: 
 140px;"><p><strong>Startzeiten:</strong></p></td><td style="width: 101px; v
 ertical-align: top;"><p><strong>13.00 Uhr </strong></p></td><td style="widt
 h: 240px;"><p><strong>Kinderlauf bis Jahrgang 2017<br /></strong><strong>Oh
 ne Zeitnahme</strong></p></td><td style="width: 87px; vertical-align: top;"
 ><p><strong>ca. 0,4 km</strong></p></td></tr><tr><td style="width: 140px;">
 <p><strong> </strong></p></td><td style="width: 101px;"><p><strong>13.30  U
 hr</strong></p></td><td style="width: 240px;"><p><strong>Schülerlauf 1 (bis
  JG 2014)<br /></strong><strong>Schülerlauf 2 (bis JG 2011)</strong></p></t
 d><td style="width: 87px;"><p><strong>ca. 0,8 km</strong></p></td></tr><tr>
 <td style="width: 140px;"><p><strong> </strong></p></td><td style="width: 1
 01px;"><p><strong>14:30 Uhr</strong></p></td><td style="width: 240px;"><p><
 strong>Kurzstrecke<br />mit Inklusion<br /></strong><strong>Wertung nur Zie
 leinlauf</strong></p></td><td style="width: 87px;"><p><strong>ca. 2,4 km</s
 trong></p></td></tr><tr><td style="width: 140px;"><p><strong> </strong></p>
 </td><td style="width: 101px;"><p><strong>15:30 Uhr</strong></p></td><td st
 yle="width: 240px;"><p><strong>Hauptlauf<br />mit Inklusionslauf</strong></
 p></td><td style="width: 87px;"><p><strong>ca. 6 km</strong></p></td></tr><
 tr><td style="width: 140px;"><p><strong> </strong></p></td><td style="width
 : 101px;"><p><strong>15.35 Uhr</strong></p></td><td style="width: 240px;"><
 p><strong>Walker<br />(mit Inklusionslauf)</strong></p></td><td style="widt
 h: 87px;"><p><strong>ca. 6 km</strong></p></td></tr><tr><td style="width: 1
 40px;"><p><strong> </strong></p></td><td style="width: 101px;"><p><strong> 
 </strong></p></td><td style="width: 240px;"><p><strong> </strong></p></td><
 td style="width: 87px;"><p><strong> </strong></p></td></tr><tr><td style="w
 idth: 140px;"><p><strong>Start und Ziel:</strong></p></td><td style="width:
  428px;" colspan="3"><p><strong>Stadtmitte am Marktplatz, 86650 Wemding</st
 rong></p></td></tr><tr><td style="width: 140px;"><p><strong> </strong></p><
 /td><td style="width: 101px;"><p><strong> </strong></p></td><td style="widt
 h: 240px;"><p><strong> </strong></p></td><td style="width: 87px;"><p><stron
 g> </strong></p></td></tr><tr><td style="width: 140px;"><p><strong>Startgeb
 ühren:</strong></p></td><td style="width: 341px;" colspan="2"><p><strong>Ki
 nderlauf und Schülerlauf</strong></p></td><td style="width: 87px;"><p><stro
 ng> 5,-- Euro</strong></p></td></tr><tr><td style="width: 140px;"><p><stron
 g> </strong></p></td><td style="width: 341px;" colspan="2"><p><strong>Kurzs
 trecke</strong></p></td><td style="width: 87px;"><p><strong> 8,-- Euro</str
 ong></p></td></tr><tr><td style="width: 140px;"><p><strong> </strong></p></
 td><td style="width: 341px;" colspan="2"><p><strong>Erwachsene und Walker</
 strong></p></td><td style="width: 87px;"><p><strong> 10,-- Euro</strong></p
 ></td></tr><tr><td style="width: 140px;"> </td><td style="width: 101px;"> <
 /td><td style="width: 240px;"> </td><td style="width: 87px;"> </td></tr><tr
 ><td style="width: 568px;" colspan="4"><h3> </h3></td></tr><tr><td style="w
 idth: 140px;"> </td><td style="width: 101px;"> </td><td style="width: 240px
 ;"> </td><td style="width: 87px;"> </td></tr><tr><td style="width: 140px;">
 <p><strong>Voranmeldungen:</strong></p></td><td style="width: 428px;" colsp
 an="3"><p><strong>bis 11.06.2023  unter     <a href="http://www.wemdinger-s
 tadtlauf.de" target="_blank" rel="noopener noreferrer">www.wemdinger-stadtl
 auf.de</a><br /></strong></p></td></tr><tr><td style="width: 140px;"><p><st
 rong> </strong></p></td><td style="width: 101px;"><p><strong> </strong></p>
 </td><td style="width: 240px;"><p><strong> </strong></p></td><td style="wid
 th: 87px;"><p><strong> </strong></p></td></tr><tr><td style="width: 140px;"
 ><p><strong>Nachmeldungen:</strong></p></td><td style="width: 428px;" colsp
 an="3"><p><strong>sind bis 30 Minuten vor Beginn der Veranstaltung möglich.
 </strong></p><p><strong>Nachmeldegebühr: 2,-- Euro</strong></p></td></tr><t
 r><td style="width: 140px;"><p><strong> </strong></p></td><td style="width:
  101px;"><p><strong> </strong></p></td><td style="width: 240px;"><p><strong
 > </strong></p></td><td style="width: 87px;"><p><strong> </strong></p></td>
 </tr><tr><td style="width: 140px;"><p><strong>Preise erhalten:</strong></p>
 </td><td style="width: 428px;" colspan="3"><p><strong>Platz 1 – 3 Einlauf F
 rauen und Männer.</strong></p></td></tr><tr><td style="width: 140px;"><p><s
 trong> </strong></p></td><td style="width: 428px;" colspan="3"><p><strong>P
 latz 1 – 3 der Hauptklasse, AK 30, AK 40, AK 50 usw.</strong></p></td></tr>
 <tr><td style="width: 140px;"><p><strong> </strong></p></td><td style="widt
 h: 428px;" colspan="3"><p><strong>Platz 1 – 3 der teilnehmerstärksten Manns
 chaften</strong></p></td></tr><tr><td style="width: 140px;"><p><strong> </s
 trong></p></td><td style="width: 428px;" colspan="3"><p><strong>alle Teilne
 hmer erhalten eine Medaille</strong></p></td></tr><tr><td style="width: 140
 px;"><p><strong> </strong></p></td><td style="width: 101px;"><p><strong> </
 strong></p></td><td style="width: 240px;"><p><strong> </strong></p></td><td
  style="width: 87px;"><p><strong> </strong></p></td></tr><tr><td style="wid
 th: 140px;"><p><strong>Ergebnisliste:</strong></p></td><td style="width: 42
 8px;" colspan="3"><p><strong>im Internet unter <a href="http://www.wemdinge
 r-stadtlauf.de" target="_blank" rel="noopener noreferrer">www.wemdinger-sta
 dtlauf.de</a><br /></strong></p></td></tr><tr><td style="width: 140px;"><p>
 <strong> </strong></p></td><td style="width: 101px;"><p><strong> </strong><
 /p></td><td style="width: 240px;"><p><strong> </strong></p></td><td style="
 width: 87px;"><p><strong> </strong></p></td></tr><tr><td style="width: 140p
 x;"><p><strong>Sonstiges:</strong></p></td><td style="width: 428px;" colspa
 n="3"><p><strong>Umkleide- und Duschmöglichkeit in der Turnhalle (Schule)</
 strong></p></td></tr><tr><td style="width: 140px;"><p><strong> </strong></p
 ></td><td style="width: 101px;"><p><strong> </strong></p></td><td style="wi
 dth: 240px;"><p><strong> </strong></p></td><td style="width: 87px;"><p><str
 ong> </strong></p></td></tr><tr><td style="width: 140px;"><p><strong>Weiter
 e Infos:</strong></p></td><td style="width: 428px;" colspan="3"><p><strong>
 Norbert Krompaß, Lommersheimer Weg 16</strong></p><p><strong>86650 Wemding,
  Telefon 09092 62 74</strong></p><p><strong>und e-mail <joomla-hidden-mail 
  is-link="1" is-email="1" first="aW5mbw==" last="bGctbWFlcmNoZW53YWxkLmRl" 
 text="aW5mb0BsZy1tYWVyY2hlbndhbGQuZGU=" base="" >Diese E-Mail-Adresse ist v
 or Spambots geschützt! Zur Anzeige muss JavaScript eingeschaltet sein.</joo
 mla-hidden-mail><br /></strong></p></td></tr></tbody></table><p><strong> </
 strong></p> <a href="https://lg-donau-ries.de/index.php/component/jevents/i
 calrepeat.detail/2023/06/17/165/-/4-wemdinger-stadtlauf?Itemid=1&amp;tmpl=c
 omponent">This event was imported from: https://lg-donau-ries.de/index.php/
 component/jevents/icalrepeat.detail/2023/06/17/165/-/4-wemdinger-stadtlauf?
 Itemid=1&amp;tmpl=component</a>DTSTAMP:20260422T202436
DTSTART;TZID=Europe/Berlin:20230617T130000
SEQUENCE:0
TRANSP:OPAQUE
END:VEVENT
END:VCALENDAR