BEGIN:VCALENDAR
VERSION:2.0
PRODID:-//jEvents 2.0 for Joomla//EN
CALSCALE:GREGORIAN
METHOD:PUBLISH
BEGIN:VTIMEZONE
TZID:Europe/Berlin
BEGIN:STANDARD
DTSTART:20221030T020000
RDATE:20230326T030000
TZOFFSETFROM:+0200
TZOFFSETTO:+0100
TZNAME:Europe/Berlin CET
END:STANDARD
BEGIN:STANDARD
DTSTART:20231029T020000
RDATE:20240331T030000
TZOFFSETFROM:+0200
TZOFFSETTO:+0100
TZNAME:Europe/Berlin CET
END:STANDARD
BEGIN:STANDARD
DTSTART:20241027T020000
RDATE:20250330T030000
TZOFFSETFROM:+0200
TZOFFSETTO:+0100
TZNAME:Europe/Berlin CET
END:STANDARD
BEGIN:STANDARD
DTSTART:20251026T020000
RDATE:20260329T030000
TZOFFSETFROM:+0200
TZOFFSETTO:+0100
TZNAME:Europe/Berlin CET
END:STANDARD
BEGIN:DAYLIGHT
DTSTART:20221021T093000
RDATE:20221030T020000
TZOFFSETFROM:+0100
TZOFFSETTO:+0200
TZNAME:Europe/Berlin CEST
END:DAYLIGHT
BEGIN:DAYLIGHT
DTSTART:20230326T030000
RDATE:20231029T020000
TZOFFSETFROM:+0100
TZOFFSETTO:+0200
TZNAME:Europe/Berlin CEST
END:DAYLIGHT
BEGIN:DAYLIGHT
DTSTART:20240331T030000
RDATE:20241027T020000
TZOFFSETFROM:+0100
TZOFFSETTO:+0200
TZNAME:Europe/Berlin CEST
END:DAYLIGHT
BEGIN:DAYLIGHT
DTSTART:20250330T030000
RDATE:20251026T020000
TZOFFSETFROM:+0100
TZOFFSETTO:+0200
TZNAME:Europe/Berlin CEST
END:DAYLIGHT
END:VTIMEZONE
BEGIN:VEVENT
UID:1615f25cea759fa223eaff9263b41f66
CATEGORIES:DEFAULT
CREATED:20230912T193505
SUMMARY:Stützpunkttraining
LOCATION:Rain\, Dreifachturnhalle\, Donauwörther Straße
URL;VALUE=URI:https://lg-donau-ries.de/index.php/component/jevents/icalrepeat.detail/2023
 /10/22/184/-/stuetzpunkttraining?Itemid=780&amp;tmpl=component
DESCRIPTION:Gemeinsames LG Training mit Schwerpunkt Stabhochsprung und Wurf (Kugel, Spe
 er)\nUm Anmeldung bis spätestens 19.10.2023 über Diese E-Mail-Adresse ist v
 or Spambots geschützt! Zur Anzeige muss JavaScript eingeschaltet sein. wird
  gebeten.\n This event was imported from: https://lg-donau-ries.de/index.ph
 p/component/jevents/icalrepeat.detail/2023/10/22/184/-/stuetzpunkttraining?
 Itemid=780&amp;tmpl=component
X-ALT-DESC;FMTTYPE=text/html:<p><span style="font-size: 12pt;">Gemeinsames LG Training mit Schwerpunkt S
 tabhochsprung und Wurf (Kugel, Speer)</span></p><p><span style="font-size: 
 12pt;">Um Anmeldung bis spätestens 19.10.2023 über <joomla-hidden-mail  is-
 link="1" is-email="1" first="TEEtVHN2LnJhaW4=" last="dm9kYWZvbmVtYWlsLmRl" 
 text="TEEtVHN2LnJhaW5Adm9kYWZvbmVtYWlsLmRl" base="" >Diese E-Mail-Adresse i
 st vor Spambots geschützt! Zur Anzeige muss JavaScript eingeschaltet sein.<
 /joomla-hidden-mail> wird gebeten.</span></p> <a href="https://lg-donau-rie
 s.de/index.php/component/jevents/icalrepeat.detail/2023/10/22/184/-/stuetzp
 unkttraining?Itemid=780&amp;tmpl=component">This event was imported from: h
 ttps://lg-donau-ries.de/index.php/component/jevents/icalrepeat.detail/2023/
 10/22/184/-/stuetzpunkttraining?Itemid=780&amp;tmpl=component</a>CONTACT:Diese E-Mail-Adresse ist vor Spambots geschützt! Zur Anzeige muss JavaScript eingeschaltet sein.
DTSTAMP:20260420T132328
DTSTART;TZID=Europe/Berlin:20231022T093000
DTEND;TZID=Europe/Berlin:20231022T113000
SEQUENCE:0
TRANSP:OPAQUE
END:VEVENT
END:VCALENDAR